BEGIN:VCALENDAR
VERSION:2.0
PRODID:www.dresden-science-calendar.de
METHOD:PUBLISH
CALSCALE:GREGORIAN
X-MICROSOFT-CALSCALE:GREGORIAN
X-WR-TIMEZONE:Europe/Berlin
BEGIN:VTIMEZONE
TZID:Europe/Berlin
X-LIC-LOCATION:Europe/Berlin
BEGIN:DAYLIGHT
TZNAME:CEST
TZOFFSETFROM:+0100
TZOFFSETTO:+0200
DTSTART:19810329T030000
RRULE:FREQ=YEARLY;INTERVAL=1;BYMONTH=3;BYDAY=-1SU
END:DAYLIGHT
BEGIN:STANDARD
TZNAME:CET
TZOFFSETFROM:+0200
TZOFFSETTO:+0100
DTSTART:19961027T030000
RRULE:FREQ=YEARLY;INTERVAL=1;BYMONTH=10;BYDAY=-1SU
END:STANDARD
END:VTIMEZONE
BEGIN:VEVENT
UID:DSC-10197
DTSTART;TZID=Europe/Berlin:20151028T110000
SEQUENCE:1446105573
TRANSP:OPAQUE
DTEND;TZID=Europe/Berlin:20151028T120000
URL:https://dresden-science-calendar.de/calendar/de/detail/10197
LOCATION:MPI-CBG\, Pfotenhauerstraße 10801307 Dresden
SUMMARY:Louveaux: Contribution of mechanical stress to cell division plane 
 orientation at the shoot apical meristem of Arabidopsis thaliana
CLASS:PUBLIC
DESCRIPTION:Speaker: Marion Louveaux\nInstitute of Speaker: ENS Lyon\, Fran
 ce\nTopics:\nBiologie\n Location:\n  Name: MPI-CBG (Seminar room Galleria)
 \n  Street: Pfotenhauerstraße 108\n  City: 01307 Dresden\n  Phone: +49 35
 1 210-0\n  Fax: +49 351 210-2000\nDescription: 
DTSTAMP:20260423T234754Z
CREATED:20151027T074338Z
LAST-MODIFIED:20151029T075933Z
END:VEVENT
END:VCALENDAR