BEGIN:VCALENDAR
VERSION:2.0
PRODID:www.dresden-science-calendar.de
METHOD:PUBLISH
CALSCALE:GREGORIAN
X-MICROSOFT-CALSCALE:GREGORIAN
X-WR-TIMEZONE:Europe/Berlin
BEGIN:VTIMEZONE
TZID:Europe/Berlin
X-LIC-LOCATION:Europe/Berlin
BEGIN:DAYLIGHT
TZNAME:CEST
TZOFFSETFROM:+0100
TZOFFSETTO:+0200
DTSTART:19810329T030000
RRULE:FREQ=YEARLY;INTERVAL=1;BYMONTH=3;BYDAY=-1SU
END:DAYLIGHT
BEGIN:STANDARD
TZNAME:CET
TZOFFSETFROM:+0200
TZOFFSETTO:+0100
DTSTART:19961027T030000
RRULE:FREQ=YEARLY;INTERVAL=1;BYMONTH=10;BYDAY=-1SU
END:STANDARD
END:VTIMEZONE
BEGIN:VEVENT
UID:DSC-1034
DTSTART;VALUE=DATE:20110404
SEQUENCE:1306507061
TRANSP:OPAQUE
DTEND;VALUE=DATE:20110409
URL:https://dresden-science-calendar.de/calendar/de/detail/1034
LOCATION:HZDR\, Bautzner Landstraße 40001328 Dresden
SUMMARY:NN: 17th CBM Collaboration Meeting
CLASS:PUBLIC
DESCRIPTION:Speaker: NN\nInstitute of Speaker: \nTopics:\nPhysik\nTime:\n09
 :00-18:00\n\n Location:\n  Name: HZDR (6/255 - Hörsaal)\n  Street: Bautzn
 er Landstraße 400\n  City: 01328 Dresden\n  Phone: \n  Fax: \nDescription
 : Compressed Baryonic Matter experiment at FAIR
X-MICROSOFT-CDO-ALLDAYEVENT:TRUE
DTSTAMP:20260419T195036Z
CREATED:20110527T143741Z
LAST-MODIFIED:20110527T143741Z
END:VEVENT
END:VCALENDAR