BEGIN:VCALENDAR
VERSION:2.0
PRODID:www.dresden-science-calendar.de
METHOD:PUBLISH
CALSCALE:GREGORIAN
X-MICROSOFT-CALSCALE:GREGORIAN
X-WR-TIMEZONE:Europe/Berlin
BEGIN:VTIMEZONE
TZID:Europe/Berlin
X-LIC-LOCATION:Europe/Berlin
BEGIN:DAYLIGHT
TZNAME:CEST
TZOFFSETFROM:+0100
TZOFFSETTO:+0200
DTSTART:19810329T030000
RRULE:FREQ=YEARLY;INTERVAL=1;BYMONTH=3;BYDAY=-1SU
END:DAYLIGHT
BEGIN:STANDARD
TZNAME:CET
TZOFFSETFROM:+0200
TZOFFSETTO:+0100
DTSTART:19961027T030000
RRULE:FREQ=YEARLY;INTERVAL=1;BYMONTH=10;BYDAY=-1SU
END:STANDARD
END:VTIMEZONE
BEGIN:VEVENT
UID:DSC-13938
DTSTART;TZID=Europe/Berlin:20180130T130000
SEQUENCE:1517298236
TRANSP:OPAQUE
DTEND;TZID=Europe/Berlin:20180130T160000
URL:https://dresden-science-calendar.de/calendar/de/detail/13938
LOCATION:Andere\,   
SUMMARY:What (if anything) is intrinsically right or wrong with populism?
CLASS:PUBLIC
DESCRIPTION:Speaker: \nInstitute of Speaker: \nTopics:\nGesellschaft\, Phil
 os.\, Erzieh.\n Location:\n  Name: Andere (GER/246)\n  Street:  \n  City: 
  \n  Phone: \n  Fax: \nDescription: Workshop des Teilprojektes B des SFB 1
 285 mit Dr. Kolja Möller Kommentare von Manès Weisskircher Felix Schilk 
   Information: angemeldeten Teilnehmenden wird die Textgrundlage vorab zur
  Verfügung gestellt.
DTSTAMP:20260423T040824Z
CREATED:20180104T080123Z
LAST-MODIFIED:20180130T074356Z
END:VEVENT
END:VCALENDAR