BEGIN:VCALENDAR
VERSION:2.0
PRODID:www.dresden-science-calendar.de
METHOD:PUBLISH
CALSCALE:GREGORIAN
X-MICROSOFT-CALSCALE:GREGORIAN
X-WR-TIMEZONE:Europe/Berlin
BEGIN:VTIMEZONE
TZID:Europe/Berlin
X-LIC-LOCATION:Europe/Berlin
BEGIN:DAYLIGHT
TZNAME:CEST
TZOFFSETFROM:+0100
TZOFFSETTO:+0200
DTSTART:19810329T030000
RRULE:FREQ=YEARLY;INTERVAL=1;BYMONTH=3;BYDAY=-1SU
END:DAYLIGHT
BEGIN:STANDARD
TZNAME:CET
TZOFFSETFROM:+0200
TZOFFSETTO:+0100
DTSTART:19961027T030000
RRULE:FREQ=YEARLY;INTERVAL=1;BYMONTH=10;BYDAY=-1SU
END:STANDARD
END:VTIMEZONE
BEGIN:VEVENT
UID:DSC-15010
DTSTART;TZID=Europe/Berlin:20190123T183000
SEQUENCE:1548202063
TRANSP:OPAQUE
DTEND;TZID=Europe/Berlin:20190123T200000
URL:https://dresden-science-calendar.de/calendar/de/detail/15010
LOCATION:TUD Hörsaalzentrum\, Bergstraße 6401069 Dresden
SUMMARY:Vlasta: Literatur und Mehrsprachigkeit
CLASS:PUBLIC
DESCRIPTION:Speaker: Dr. Sandra Vlasta\, Universität Mainz\nInstitute of S
 peaker: \nTopics:\nGesellschaft\, Philos.\, Erzieh.\, Sprache\, Literatur 
 und Kultur\, Weiterbildung\n Location:\n  Name: TUD Hörsaalzentrum (TU Dr
 esden\, Hörsaalzentrum\, Bergstraße 64\, 01069 Dresden\, Raum HSZ/401/H)
 \n  Street: Bergstraße 64\n  City: 01069 Dresden\n  Phone: +49 351 463-34
 457\n  Fax: +49 351 463-32883\nDescription: Teil der Reihe/part of serie: 
 Ringvorlesung: Mehrsprachigkeit. Chancen und Herausforderungen für Schule
  und Gesellschaft  
DTSTAMP:20260421T174635Z
CREATED:20180913T000612Z
LAST-MODIFIED:20190123T000743Z
END:VEVENT
END:VCALENDAR