BEGIN:VCALENDAR
VERSION:2.0
PRODID:www.dresden-science-calendar.de
METHOD:PUBLISH
CALSCALE:GREGORIAN
X-MICROSOFT-CALSCALE:GREGORIAN
X-WR-TIMEZONE:Europe/Berlin
BEGIN:VTIMEZONE
TZID:Europe/Berlin
X-LIC-LOCATION:Europe/Berlin
BEGIN:DAYLIGHT
TZNAME:CEST
TZOFFSETFROM:+0100
TZOFFSETTO:+0200
DTSTART:19810329T030000
RRULE:FREQ=YEARLY;INTERVAL=1;BYMONTH=3;BYDAY=-1SU
END:DAYLIGHT
BEGIN:STANDARD
TZNAME:CET
TZOFFSETFROM:+0200
TZOFFSETTO:+0100
DTSTART:19961027T030000
RRULE:FREQ=YEARLY;INTERVAL=1;BYMONTH=10;BYDAY=-1SU
END:STANDARD
END:VTIMEZONE
BEGIN:VEVENT
UID:DSC-15087
DTSTART;TZID=Europe/Berlin:20190124T160000
SEQUENCE:1548288575
TRANSP:OPAQUE
DTEND;TZID=Europe/Berlin:20190124T173000
URL:https://dresden-science-calendar.de/calendar/de/detail/15087
LOCATION:HAIT\, Helmholtzstr. 601069 Dresden
SUMMARY:Kollmorgen: Ostdeutsche Eliten und Eliten in Ostdeutschland. Eine A
 nalyse ihrer Zirkulation und Reproduktion nach 1989 im ostmitteleuropäisc
 hen Vergleich
CLASS:PUBLIC
DESCRIPTION:Speaker: Prof. Dr. Raj Kollmorgen\nInstitute of Speaker: Görli
 tz\nTopics:\nGesellschaft\, Philos.\, Erzieh.\n Location:\n  Name: HAIT (H
 annah-Arendt-Institut\, Helmholtzstr. 6\, Raum 110)\n  Street: Helmholtzst
 r. 6\n  City: 01069 Dresden\n  Phone: \n  Fax: \nDescription: Einerseits f
 anden oder finden sich Ostdeutsche in Spitzenpositionen des Staates. Es re
 icht\, an Bundeskanzlerin Angela Merkel oder an den Altbundespräsidenten 
 Joachim Gauck zu erinnern. Andererseits zeigen alle vorliegenden Erhebunge
 n\, dass Ostdeutsche jenseits des politischen Sektors in den Eliten teils 
 dramatisch unterrepräsentiert sind. Das gilt etwa für die Sektoren Verwa
 ltung\, Justiz oder Wirtschaft. Im Vortrag sollen nicht nur entsprechende 
 empirische Befunde präsentiert\, sondern auch in postkommunistisch vergle
 ichender Perspektive gefragt werden\, warum es bis heute so wenige Ostdeut
 sche in die Führungsgruppen der Bundesrepublik geschafft haben und ob sic
 h dies absehbar ändern könnte.<br /><br />Zum Referenten:<br />Raj Kollm
 orgen\, geb. 1963\, ist Soziologe und lebt in Görlitz. Er ist seit 2013 P
 rofessor für Management Sozialen Wandels an der Hochschule Zittau/Görlit
 z und Direktor des Forschungsinstituts für Transformation\, Wohnen und so
 ziale Raumentwicklung (TRAWOS). Seine Forschungsschwerpunkte umfassen die 
 postkommunistischen Transformationen\, Ostdeutschland sowie soziale Wandlu
 ngsprozesse in den Gegenwartsgesellschaften\, einschließlich sozial-ökol
 ogischer Herausforderungen oder politischer Radikalisierungen.
DTSTAMP:20260424T174229Z
CREATED:20181002T000929Z
LAST-MODIFIED:20190124T000935Z
END:VEVENT
END:VCALENDAR