BEGIN:VCALENDAR
VERSION:2.0
PRODID:www.dresden-science-calendar.de
METHOD:PUBLISH
CALSCALE:GREGORIAN
X-MICROSOFT-CALSCALE:GREGORIAN
X-WR-TIMEZONE:Europe/Berlin
BEGIN:VTIMEZONE
TZID:Europe/Berlin
X-LIC-LOCATION:Europe/Berlin
BEGIN:DAYLIGHT
TZNAME:CEST
TZOFFSETFROM:+0100
TZOFFSETTO:+0200
DTSTART:19810329T030000
RRULE:FREQ=YEARLY;INTERVAL=1;BYMONTH=3;BYDAY=-1SU
END:DAYLIGHT
BEGIN:STANDARD
TZNAME:CET
TZOFFSETFROM:+0200
TZOFFSETTO:+0100
DTSTART:19961027T030000
RRULE:FREQ=YEARLY;INTERVAL=1;BYMONTH=10;BYDAY=-1SU
END:STANDARD
END:VTIMEZONE
BEGIN:VEVENT
UID:DSC-15095
DTSTART;TZID=Europe/Berlin:20181102T093000
SEQUENCE:1541117174
TRANSP:OPAQUE
DTEND;TZID=Europe/Berlin:20181102T150000
URL:https://dresden-science-calendar.de/calendar/de/detail/15095
LOCATION:HZDR\, Bautzner Landstraße 40001328 Dresden
SUMMARY:Kolloquium Beschleuniger-Massenspektrometrie und Isotopenforschung
CLASS:PUBLIC
DESCRIPTION:Speaker: \nInstitute of Speaker: \nTopics:\nPhysik\n Location:\
 n  Name: HZDR (106/255 - Hörsaal)\n  Street: Bautzner Landstraße 400\n  
 City: 01328 Dresden\n  Phone: \n  Fax: \nDescription: Zentrumskolloquium A
 MS
DTSTAMP:20260419T194106Z
CREATED:20181003T000824Z
LAST-MODIFIED:20181102T000614Z
END:VEVENT
END:VCALENDAR