BEGIN:VCALENDAR
VERSION:2.0
PRODID:www.dresden-science-calendar.de
METHOD:PUBLISH
CALSCALE:GREGORIAN
X-MICROSOFT-CALSCALE:GREGORIAN
X-WR-TIMEZONE:Europe/Berlin
BEGIN:VTIMEZONE
TZID:Europe/Berlin
X-LIC-LOCATION:Europe/Berlin
BEGIN:DAYLIGHT
TZNAME:CEST
TZOFFSETFROM:+0100
TZOFFSETTO:+0200
DTSTART:19810329T030000
RRULE:FREQ=YEARLY;INTERVAL=1;BYMONTH=3;BYDAY=-1SU
END:DAYLIGHT
BEGIN:STANDARD
TZNAME:CET
TZOFFSETFROM:+0200
TZOFFSETTO:+0100
DTSTART:19961027T030000
RRULE:FREQ=YEARLY;INTERVAL=1;BYMONTH=10;BYDAY=-1SU
END:STANDARD
END:VTIMEZONE
BEGIN:VEVENT
UID:DSC-15394
DTSTART;TZID=Europe/Berlin:20181204T150000
SEQUENCE:1543505130
TRANSP:OPAQUE
DTEND;TZID=Europe/Berlin:20181204T160000
URL:https://dresden-science-calendar.de/calendar/de/detail/15394
LOCATION:TUD CRTD\, Fetscherstraße 10501307 Dresden
SUMMARY:Mallone: Benign islet autoimmunity and type 1 diabetes: a T-cell vi
 ewpoint
CLASS:PUBLIC
DESCRIPTION:Speaker: Roberto Mallone\nInstitute of Speaker: Institut Cochin
 \, Paris\nTopics:\nBiologie\, Medizin\n Location:\n  Name: TUD CRTD (SR 1)
 \n  Street: Fetscherstraße 105\n  City: 01307 Dresden\n  Phone: +49 (0)35
 1 458 82052\n  Fax: +49 (0)351 458 82059 \nDescription: 
DTSTAMP:20260420T051534Z
CREATED:20181129T152530Z
LAST-MODIFIED:20181129T152530Z
END:VEVENT
END:VCALENDAR