BEGIN:VCALENDAR
VERSION:2.0
PRODID:www.dresden-science-calendar.de
METHOD:PUBLISH
CALSCALE:GREGORIAN
X-MICROSOFT-CALSCALE:GREGORIAN
X-WR-TIMEZONE:Europe/Berlin
BEGIN:VTIMEZONE
TZID:Europe/Berlin
X-LIC-LOCATION:Europe/Berlin
BEGIN:DAYLIGHT
TZNAME:CEST
TZOFFSETFROM:+0100
TZOFFSETTO:+0200
DTSTART:19810329T030000
RRULE:FREQ=YEARLY;INTERVAL=1;BYMONTH=3;BYDAY=-1SU
END:DAYLIGHT
BEGIN:STANDARD
TZNAME:CET
TZOFFSETFROM:+0200
TZOFFSETTO:+0100
DTSTART:19961027T030000
RRULE:FREQ=YEARLY;INTERVAL=1;BYMONTH=10;BYDAY=-1SU
END:STANDARD
END:VTIMEZONE
BEGIN:VEVENT
UID:DSC-16992
DTSTART;TZID=Europe/Berlin:20200124T133000
SEQUENCE:1579856943
TRANSP:OPAQUE
DTEND;TZID=Europe/Berlin:20200124T143000
URL:https://dresden-science-calendar.de/calendar/de/detail/16992
LOCATION:TUD Willers-Bau\, Zellescher Weg 12-1401069 Dresden
SUMMARY:Quinn-Gregson: Solving equation systems in omega-categorical algebr
 as
CLASS:PUBLIC
DESCRIPTION:Speaker: Thomas Quinn-Gregson\nInstitute of Speaker: \nTopics:\
 n\n Location:\n  Name: TUD Willers-Bau (WIL C 129)\n  Street: Zellescher W
 eg 12-14\n  City: 01069 Dresden\n  Phone: \n  Fax: \nDescription: 
DTSTAMP:20260422T200144Z
CREATED:20200124T090903Z
LAST-MODIFIED:20200124T090903Z
END:VEVENT
END:VCALENDAR