BEGIN:VCALENDAR
VERSION:2.0
PRODID:www.dresden-science-calendar.de
METHOD:PUBLISH
CALSCALE:GREGORIAN
X-MICROSOFT-CALSCALE:GREGORIAN
X-WR-TIMEZONE:Europe/Berlin
BEGIN:VTIMEZONE
TZID:Europe/Berlin
X-LIC-LOCATION:Europe/Berlin
BEGIN:DAYLIGHT
TZNAME:CEST
TZOFFSETFROM:+0100
TZOFFSETTO:+0200
DTSTART:19810329T030000
RRULE:FREQ=YEARLY;INTERVAL=1;BYMONTH=3;BYDAY=-1SU
END:DAYLIGHT
BEGIN:STANDARD
TZNAME:CET
TZOFFSETFROM:+0200
TZOFFSETTO:+0100
DTSTART:19961027T030000
RRULE:FREQ=YEARLY;INTERVAL=1;BYMONTH=10;BYDAY=-1SU
END:STANDARD
END:VTIMEZONE
BEGIN:VEVENT
UID:DSC-19071
DTSTART;VALUE=DATE:20220912
SEQUENCE:1662037865
TRANSP:OPAQUE
DTEND;VALUE=DATE:20220922
URL:https://dresden-science-calendar.de/calendar/de/detail/19071
LOCATION:MPI-PKS\, Nöthnitzer Straße 3801187 Dresden
SUMMARY:Lehnertz: Inverse Network Dynamics - Network Structure and Function
  from Nonlinear Dynamics and Time Series Data
CLASS:PUBLIC
DESCRIPTION:Speaker: Klaus Lehnertz\, Mor Nitzan\, Marc Timme\nInstitute of
  Speaker: \nTopics:\n\nTime:\n09:00-18:00\n\n Location:\n  Name: MPI-PKS (
 )\n  Street: Nöthnitzer Straße 38\n  City: 01187 Dresden\n  Phone: + 49 
 (0)351 871 0\n  Fax: \nDescription: 
X-MICROSOFT-CDO-ALLDAYEVENT:TRUE
DTSTAMP:20260421T160511Z
CREATED:20220901T131105Z
LAST-MODIFIED:20220901T131105Z
END:VEVENT
END:VCALENDAR