BEGIN:VCALENDAR
VERSION:2.0
PRODID:www.dresden-science-calendar.de
METHOD:PUBLISH
CALSCALE:GREGORIAN
X-MICROSOFT-CALSCALE:GREGORIAN
X-WR-TIMEZONE:Europe/Berlin
BEGIN:VTIMEZONE
TZID:Europe/Berlin
X-LIC-LOCATION:Europe/Berlin
BEGIN:DAYLIGHT
TZNAME:CEST
TZOFFSETFROM:+0100
TZOFFSETTO:+0200
DTSTART:19810329T030000
RRULE:FREQ=YEARLY;INTERVAL=1;BYMONTH=3;BYDAY=-1SU
END:DAYLIGHT
BEGIN:STANDARD
TZNAME:CET
TZOFFSETFROM:+0200
TZOFFSETTO:+0100
DTSTART:19961027T030000
RRULE:FREQ=YEARLY;INTERVAL=1;BYMONTH=10;BYDAY=-1SU
END:STANDARD
END:VTIMEZONE
BEGIN:VEVENT
UID:DSC-20361
DTSTART;TZID=Europe/Berlin:20240314T150000
SEQUENCE:1710398151
TRANSP:OPAQUE
DTEND;TZID=Europe/Berlin:20240314T200000
URL:https://dresden-science-calendar.de/calendar/de/detail/20361
LOCATION:HZDR\, Bautzner Landstraße 40001328 Dresden
SUMMARY:nn: Female Rolemodels
CLASS:PUBLIC
DESCRIPTION:Speaker: nn\nInstitute of Speaker: \nTopics:\n\n Location:\n  N
 ame: HZDR (114/114 - Speisesaal)\n  Street: Bautzner Landstraße 400\n  Ci
 ty: 01328 Dresden\n  Phone: \n  Fax: \nDescription: nn
DTSTAMP:20260421T061504Z
CREATED:20231121T064029Z
LAST-MODIFIED:20240314T063551Z
END:VEVENT
END:VCALENDAR