BEGIN:VCALENDAR
VERSION:2.0
PRODID:www.dresden-science-calendar.de
METHOD:PUBLISH
CALSCALE:GREGORIAN
X-MICROSOFT-CALSCALE:GREGORIAN
X-WR-TIMEZONE:Europe/Berlin
BEGIN:VTIMEZONE
TZID:Europe/Berlin
X-LIC-LOCATION:Europe/Berlin
BEGIN:DAYLIGHT
TZNAME:CEST
TZOFFSETFROM:+0100
TZOFFSETTO:+0200
DTSTART:19810329T030000
RRULE:FREQ=YEARLY;INTERVAL=1;BYMONTH=3;BYDAY=-1SU
END:DAYLIGHT
BEGIN:STANDARD
TZNAME:CET
TZOFFSETFROM:+0200
TZOFFSETTO:+0100
DTSTART:19961027T030000
RRULE:FREQ=YEARLY;INTERVAL=1;BYMONTH=10;BYDAY=-1SU
END:STANDARD
END:VTIMEZONE
BEGIN:VEVENT
UID:DSC-22178
DTSTART;TZID=Europe/Berlin:20250908T143000
SEQUENCE:1754993253
TRANSP:OPAQUE
DTEND;TZID=Europe/Berlin:20250908T160000
URL:https://dresden-science-calendar.de/calendar/de/detail/22178
LOCATION:Andere\,   
SUMMARY:Rundgang: Kunst und Architektur auf dem Campus der TU Dresden
CLASS:PUBLIC
DESCRIPTION:Speaker: \nInstitute of Speaker: \nTopics:\n\n Location:\n  Nam
 e: Andere (Treffpunkt:    ins grüne\, Coffeebar\, George-Bähr-Str. 7\, D
 resden)\n  Street:  \n  City:  \n  Phone: \n  Fax: \nDescription: Nach zah
 lreichen Neubauten werden seit vielen Jahren die historischen Gebäude auf
  dem Campus der TU Dresden saniert. Mit diesem Rundgang laden Sächsische 
 Bibliotheksgesellschaft (SäBiG) und Kustodie der TU Dresden herzlich zu e
 iner Zeitreise durch 125 Jahre baubezogene Kunst\, Architektur und Univers
 itätsgeschichte ein. Ausgehend vom Café ins grüne am Münchner Platz be
 sichtigen wir Kunst im Görges-Bau\, Zeuner-Bau\, von-Potthoff-Bau\, Beyer
 -Bau und der Neuen Mensa. Entdecken Sie mit uns erstaunliche Kunstwerke un
 d den inspirierenden TU-Campus. Begrenzte Teilnehmerzahl.    Für Mitglied
 er der SäBiG kostenfrei\, von Gästen werden vor Ort 5 Euro Teilnahmegeb
 ühr erbeten. Anmeldungen bis 4.9. über unseren Kalender auf der Webseite
  der SLUB oder per Mail an buerger@saebig.de
DTSTAMP:20260423T060045Z
CREATED:20250812T100733Z
LAST-MODIFIED:20250812T100733Z
END:VEVENT
END:VCALENDAR