BEGIN:VCALENDAR
VERSION:2.0
PRODID:www.dresden-science-calendar.de
METHOD:PUBLISH
CALSCALE:GREGORIAN
X-MICROSOFT-CALSCALE:GREGORIAN
X-WR-TIMEZONE:Europe/Berlin
BEGIN:VTIMEZONE
TZID:Europe/Berlin
X-LIC-LOCATION:Europe/Berlin
BEGIN:DAYLIGHT
TZNAME:CEST
TZOFFSETFROM:+0100
TZOFFSETTO:+0200
DTSTART:19810329T030000
RRULE:FREQ=YEARLY;INTERVAL=1;BYMONTH=3;BYDAY=-1SU
END:DAYLIGHT
BEGIN:STANDARD
TZNAME:CET
TZOFFSETFROM:+0200
TZOFFSETTO:+0100
DTSTART:19961027T030000
RRULE:FREQ=YEARLY;INTERVAL=1;BYMONTH=10;BYDAY=-1SU
END:STANDARD
END:VTIMEZONE
BEGIN:VEVENT
UID:DSC-22383
DTSTART;TZID=Europe/Berlin:20251111T190000
SEQUENCE:1760599169
TRANSP:OPAQUE
DTEND;TZID=Europe/Berlin:20251111T203000
URL:https://dresden-science-calendar.de/calendar/de/detail/22383
LOCATION:SLUB\, Zellescher Weg 1801069 Dresden
SUMMARY:What is history all about? Dresden-Düsseldorfer Gespräche zur Ges
 chichte und Gegenwart.
CLASS:PUBLIC
DESCRIPTION:Speaker: \nInstitute of Speaker: \nTopics:\n\n Location:\n  Nam
 e: SLUB (Klemperer-Saal)\n  Street: Zellescher Weg 18\n  City: 01069 Dresd
 en\n  Phone: \n  Fax: \nDescription: In diesem Format begrüßen Dagmar El
 lerbrock (Professur für Neuere und Neueste Geschichte\, TU Dresden) und H
 einer Fangerau (Professur für Geschichte\, Theorie und Ethik der Medizin\
 , HHU Düsseldorf) gemeinsam eine Historikerin oder einen Historiker\, die
  mit ihren Ideen\, Ansätzen und Interpretationen von sich Reden gemacht h
 aben. Ausgehend von der persönlichen Biographie und ihren wissenschaftlic
 hen Beiträgen diskutieren wir die gesellschaftliche Bedeutung von Geschic
 hte und Geschichtswissenschaft. Zu Gast: Jörg Ganzenmüller (Professur Eu
 ropäischer Diktaturenvergleich\, Universität Jena)
DTSTAMP:20260425T024728Z
CREATED:20251016T071929Z
LAST-MODIFIED:20251016T071929Z
END:VEVENT
END:VCALENDAR