BEGIN:VCALENDAR
VERSION:2.0
PRODID:www.dresden-science-calendar.de
METHOD:PUBLISH
CALSCALE:GREGORIAN
X-MICROSOFT-CALSCALE:GREGORIAN
X-WR-TIMEZONE:Europe/Berlin
BEGIN:VTIMEZONE
TZID:Europe/Berlin
X-LIC-LOCATION:Europe/Berlin
BEGIN:DAYLIGHT
TZNAME:CEST
TZOFFSETFROM:+0100
TZOFFSETTO:+0200
DTSTART:19810329T030000
RRULE:FREQ=YEARLY;INTERVAL=1;BYMONTH=3;BYDAY=-1SU
END:DAYLIGHT
BEGIN:STANDARD
TZNAME:CET
TZOFFSETFROM:+0200
TZOFFSETTO:+0100
DTSTART:19961027T030000
RRULE:FREQ=YEARLY;INTERVAL=1;BYMONTH=10;BYDAY=-1SU
END:STANDARD
END:VTIMEZONE
BEGIN:VEVENT
UID:DSC-22666
DTSTART;VALUE=DATE:20271103
SEQUENCE:1777095600
TRANSP:OPAQUE
DTEND;VALUE=DATE:20271105
URL:https://dresden-science-calendar.de/calendar/de/detail/22666
LOCATION:HZDR\, Bautzner Landstraße 40001328 Dresden
SUMMARY:8. SaxFDM Tagung 2027
CLASS:PUBLIC
DESCRIPTION:Speaker: \nInstitute of Speaker: \nTopics:\n\nTime:\n06:00-18:0
 0\n\n Location:\n  Name: HZDR (114/203 - Beratungsraum)\n  Street: Bautzne
 r Landstraße 400\n  City: 01328 Dresden\n  Phone: \n  Fax: \nDescription:
  Die SaxFDM-Tagungen bilden die zentrale Veranstaltungsreihe der Initiativ
 e. Sie richten sich an Forschende\, Datenmanagerinnen und Datenmanager\, I
 nfrastruktureinrichtungen\, Bibliotheken\, Rechenzentren sowie alle weiter
 en Akteurinnen und Akteure\, die an nachhaltigem Umgang mit Forschungsdate
 n interessiert sind.  Als wiederkehrendes Forum bieten die SaxFDM-Tagungen
  Raum für Information\, Diskussion und Vernetzung. Sie greifen aktuelle E
 ntwicklungen im FDM auf und machen Erfahrungen aus Projekten\, Services un
 d Communities sichtbar.
X-MICROSOFT-CDO-ALLDAYEVENT:TRUE
DTSTAMP:20260425T184824Z
CREATED:20260213T051024Z
LAST-MODIFIED:20260425T054000Z
END:VEVENT
END:VCALENDAR