BEGIN:VCALENDAR
VERSION:2.0
PRODID:www.dresden-science-calendar.de
METHOD:PUBLISH
CALSCALE:GREGORIAN
X-MICROSOFT-CALSCALE:GREGORIAN
X-WR-TIMEZONE:Europe/Berlin
BEGIN:VTIMEZONE
TZID:Europe/Berlin
X-LIC-LOCATION:Europe/Berlin
BEGIN:DAYLIGHT
TZNAME:CEST
TZOFFSETFROM:+0100
TZOFFSETTO:+0200
DTSTART:19810329T030000
RRULE:FREQ=YEARLY;INTERVAL=1;BYMONTH=3;BYDAY=-1SU
END:DAYLIGHT
BEGIN:STANDARD
TZNAME:CET
TZOFFSETFROM:+0200
TZOFFSETTO:+0100
DTSTART:19961027T030000
RRULE:FREQ=YEARLY;INTERVAL=1;BYMONTH=10;BYDAY=-1SU
END:STANDARD
END:VTIMEZONE
BEGIN:VEVENT
UID:DSC-22694
DTSTART;TZID=Europe/Berlin:20260330T183000
SEQUENCE:1771922139
TRANSP:OPAQUE
DTEND;TZID=Europe/Berlin:20260330T200000
URL:https://dresden-science-calendar.de/calendar/de/detail/22694
LOCATION:SLUB\, Zellescher Weg 1801069 Dresden
SUMMARY:EVOLUTION
CLASS:PUBLIC
DESCRIPTION:Speaker: \nInstitute of Speaker: \nTopics:\nSprache\, Literatur
  und Kultur\n Location:\n  Name: SLUB (Klemperer-Saal)\n  Street: Zellesch
 er Weg 18\n  City: 01069 Dresden\n  Phone: \n  Fax: \nDescription: (D/HUN\
 , 2021\, Regie: Kornél Mundruczó\; 100 Minuten)    Über drei Generation
 en folgt EVOLUTION dem Schicksal einer jüdischen Familie von 1945 bis heu
 te und geht der Frage auf den Grund\, was es bedeutet\, jüdisch zu sein: 
 In einer verlassenen Gaskammer wird ein kleines Mädchen gefunden\, das au
 f wundersame Weise überlebt hat. Jahrzehnte später in Budapest wird Éva
 \, schon etwas dement\, von ihrer Tochter Léna nach Geburtsurkunden und A
 usweispapieren gefragt – doch alle offiziellen Dokumente\, die sie besit
 zt\, sind gefälscht\, um ihre jüdische Herkunft zu verbergen. Und dann i
 st da noch Evas Enkel Jonás. Er ist gerade mit seiner Mutter nach Berlin 
 gezogen und weiß gar nicht mehr\, wer oder was er ist – nur das weiß e
 r: Dass er sich als Jude in der Schule ausgeschlossen fühlt.    Eine Vera
 nstaltung im Rahmen der Internationalen Wochen gegen Rassismus in Kooperat
 ion mit der TU Dresden.
DTSTAMP:20260423T022829Z
CREATED:20260224T083539Z
LAST-MODIFIED:20260224T083539Z
END:VEVENT
END:VCALENDAR