BEGIN:VCALENDAR
VERSION:2.0
PRODID:www.dresden-science-calendar.de
METHOD:PUBLISH
CALSCALE:GREGORIAN
X-MICROSOFT-CALSCALE:GREGORIAN
X-WR-TIMEZONE:Europe/Berlin
BEGIN:VTIMEZONE
TZID:Europe/Berlin
X-LIC-LOCATION:Europe/Berlin
BEGIN:DAYLIGHT
TZNAME:CEST
TZOFFSETFROM:+0100
TZOFFSETTO:+0200
DTSTART:19810329T030000
RRULE:FREQ=YEARLY;INTERVAL=1;BYMONTH=3;BYDAY=-1SU
END:DAYLIGHT
BEGIN:STANDARD
TZNAME:CET
TZOFFSETFROM:+0200
TZOFFSETTO:+0100
DTSTART:19961027T030000
RRULE:FREQ=YEARLY;INTERVAL=1;BYMONTH=10;BYDAY=-1SU
END:STANDARD
END:VTIMEZONE
BEGIN:VEVENT
UID:DSC-22711
DTSTART;TZID=Europe/Berlin:20260311T190000
SEQUENCE:1773211113
TRANSP:OPAQUE
DTEND;TZID=Europe/Berlin:20260311T200000
URL:https://dresden-science-calendar.de/calendar/de/detail/22711
LOCATION:TUD Hörsaalzentrum\, Bergstraße 6401069 Dresden
SUMMARY:Abendvortrag „Gravitationswellenastronomie – quo vadis?“
CLASS:PUBLIC
DESCRIPTION:Speaker: \nInstitute of Speaker: \nTopics:\nPhysik\n Location:\
 n  Name: TUD Hörsaalzentrum ()\n  Street: Bergstraße 64\n  City: 01069 D
 resden\n  Phone: +49 351 463-34457\n  Fax: +49 351 463-32883\nDescription:
  <p>Michèle Heurs (Leibniz Universität Hannover) nimmt die Zuhörenden m
 it auf eine Reise ins Universum. Sie erklärt die physikalischen Grundlage
 n der interferometrischen Gravitationswellendetektion und zeigt die techno
 logischen Grenzen des Messbaren auf. Wie lassen sich Quantenrauschen\, sei
 smische Störungen und thermische Effekte überwinden und welche Rolle spi
 elt „gequetschtes“ Licht?</p>
DTSTAMP:20260424T030403Z
CREATED:20260225T063659Z
LAST-MODIFIED:20260311T063833Z
END:VEVENT
END:VCALENDAR