BEGIN:VCALENDAR
VERSION:2.0
PRODID:www.dresden-science-calendar.de
METHOD:PUBLISH
CALSCALE:GREGORIAN
X-MICROSOFT-CALSCALE:GREGORIAN
X-WR-TIMEZONE:Europe/Berlin
BEGIN:VTIMEZONE
TZID:Europe/Berlin
X-LIC-LOCATION:Europe/Berlin
BEGIN:DAYLIGHT
TZNAME:CEST
TZOFFSETFROM:+0100
TZOFFSETTO:+0200
DTSTART:19810329T030000
RRULE:FREQ=YEARLY;INTERVAL=1;BYMONTH=3;BYDAY=-1SU
END:DAYLIGHT
BEGIN:STANDARD
TZNAME:CET
TZOFFSETFROM:+0200
TZOFFSETTO:+0100
DTSTART:19961027T030000
RRULE:FREQ=YEARLY;INTERVAL=1;BYMONTH=10;BYDAY=-1SU
END:STANDARD
END:VTIMEZONE
BEGIN:VEVENT
UID:DSC-3459
DTSTART;TZID=Europe/Berlin:20120705T160000
SEQUENCE:1341473746
TRANSP:OPAQUE
DTEND;TZID=Europe/Berlin:20120705T170000
URL:https://dresden-science-calendar.de/calendar/de/detail/3459
LOCATION:MPI-PKS\, Nöthnitzer Straße 3801187 Dresden
SUMMARY:Toner: Birth\, Death\, and Flight: A Theory of Malthusian Flocks
CLASS:PUBLIC
DESCRIPTION:Speaker: John Toner\nInstitute of Speaker: University of Oregon
 \nTopics:\nPhysik\n Location:\n  Name: MPI-PKS (Room 1D1)\n  Street: Nöth
 nitzer Straße 38\n  City: 01187 Dresden\n  Phone: + 49 (0)351 871 0\n  Fa
 x: \nDescription: I study “Malthusian Flocks”: moving aggregates of se
 lf-propelled entities (e.g.\, organisms\, cytoskeletal actin\, microtubule
 s in mitotic spindles) that reproduce and die. Long-ranged order (i.e.\, t
 he existence of a non-zero average velocity) is possible in these systems\
 , even in spatial dimension d=2. Their spatiotemporal scaling structure ca
 n be determined exactly in d=2\; furthermore\, they lack both the longitud
 inal sound waves and the giant number fluctuations found in immortal flock
 s. Number fluctuations are very persistent\, and propagate along the direc
 tion of flock motion\, but at a different speed.
DTSTAMP:20260425T052810Z
CREATED:20120703T073538Z
LAST-MODIFIED:20120705T073546Z
END:VEVENT
END:VCALENDAR