BEGIN:VCALENDAR
VERSION:2.0
PRODID:www.dresden-science-calendar.de
METHOD:PUBLISH
CALSCALE:GREGORIAN
X-MICROSOFT-CALSCALE:GREGORIAN
X-WR-TIMEZONE:Europe/Berlin
BEGIN:VTIMEZONE
TZID:Europe/Berlin
X-LIC-LOCATION:Europe/Berlin
BEGIN:DAYLIGHT
TZNAME:CEST
TZOFFSETFROM:+0100
TZOFFSETTO:+0200
DTSTART:19810329T030000
RRULE:FREQ=YEARLY;INTERVAL=1;BYMONTH=3;BYDAY=-1SU
END:DAYLIGHT
BEGIN:STANDARD
TZNAME:CET
TZOFFSETFROM:+0200
TZOFFSETTO:+0100
DTSTART:19961027T030000
RRULE:FREQ=YEARLY;INTERVAL=1;BYMONTH=10;BYDAY=-1SU
END:STANDARD
END:VTIMEZONE
BEGIN:VEVENT
UID:DSC-4010
DTSTART;TZID=Europe/Berlin:20121015T180000
SEQUENCE:1350286532
TRANSP:OPAQUE
DTEND;TZID=Europe/Berlin:20121015T200000
URL:https://dresden-science-calendar.de/calendar/de/detail/4010
LOCATION:TUD\,    
SUMMARY:Mommsen: Goethe und der Alte Fritz - Buchvorstellung
CLASS:PUBLIC
DESCRIPTION:Speaker: Katharina Mommsen\; Professor Thomas Bürger\nInstitut
 e of Speaker: \nTopics:\nSprache\, Literatur und Kultur\n Location:\n  Nam
 e: TUD (SLUB Dresden\, Zentralbibliothek\, Vortragssaal\, Zellescher Weg 1
 8\, neben Cafeteria Bib-Lounge)\n  Street:   \n  City:  \n  Phone: \n  Fax
 : \nDescription: <p>Buchvorstellung mit der Autorin Katharina Mommsen (geb
 . 1925)\, emeritierte Professorin f&uuml\;r Germanistik an der Stanford Un
 iversity\, Kalifornien.</p>  <p>Die gro&szlig\;e Goethe-Forscherin stellt 
 erstmalig mit dem Lehmstedt Verlag und der Goethe-Gesellschaft Dresden ihr
  neuestes Buch vor. Die Spannungen zwischen den beiden gr&ouml\;&szlig\;te
 n Deutschen des 18. Jahrhunderts - Goethe war zun&auml\;chst schw&auml\;rm
 erisch f&uuml\;r und dann zunehmend kritisch gegen&uuml\;ber dem gro&szlig
 \;en K&ouml\;nig eingestellt - hat Katharina Mommsen untersucht. Der &raqu
 o\;Geist von Potsdam&laquo\; wird dem &raquo\;Geist von Weimar&laquo\; geg
 en&uuml\;bergestellt.</p>
DTSTAMP:20260425T050658Z
CREATED:20121011T073531Z
LAST-MODIFIED:20121015T073532Z
END:VEVENT
END:VCALENDAR