BEGIN:VCALENDAR
VERSION:2.0
PRODID:www.dresden-science-calendar.de
METHOD:PUBLISH
CALSCALE:GREGORIAN
X-MICROSOFT-CALSCALE:GREGORIAN
X-WR-TIMEZONE:Europe/Berlin
BEGIN:VTIMEZONE
TZID:Europe/Berlin
X-LIC-LOCATION:Europe/Berlin
BEGIN:DAYLIGHT
TZNAME:CEST
TZOFFSETFROM:+0100
TZOFFSETTO:+0200
DTSTART:19810329T030000
RRULE:FREQ=YEARLY;INTERVAL=1;BYMONTH=3;BYDAY=-1SU
END:DAYLIGHT
BEGIN:STANDARD
TZNAME:CET
TZOFFSETFROM:+0200
TZOFFSETTO:+0100
DTSTART:19961027T030000
RRULE:FREQ=YEARLY;INTERVAL=1;BYMONTH=10;BYDAY=-1SU
END:STANDARD
END:VTIMEZONE
BEGIN:VEVENT
UID:DSC-6449
DTSTART;TZID=Europe/Berlin:20131217T110000
SEQUENCE:1387353311
TRANSP:OPAQUE
DTEND;TZID=Europe/Berlin:20131217T120000
URL:https://dresden-science-calendar.de/calendar/de/detail/6449
LOCATION:MPI-CBG\, Pfotenhauerstraße 10801307 Dresden
SUMMARY:Wuttke: Lipid signalling dynamics in insulin-secreting cells
CLASS:PUBLIC
DESCRIPTION:Speaker: Anne Wuttke\nInstitute of Speaker: Dept. of Medical Ce
 ll Biology\, Uppsala University\, Sweden\nTopics:\nBiologie\n Location:\n 
  Name: MPI-CBG (Seminar Room 2nd floor)\n  Street: Pfotenhauerstraße 108\
 n  City: 01307 Dresden\n  Phone: +49 351 210-0\n  Fax: +49 351 210-2000\nD
 escription: 
DTSTAMP:20260425T145711Z
CREATED:20131206T075947Z
LAST-MODIFIED:20131218T075511Z
END:VEVENT
END:VCALENDAR