BEGIN:VCALENDAR
VERSION:2.0
PRODID:www.dresden-science-calendar.de
METHOD:PUBLISH
CALSCALE:GREGORIAN
X-MICROSOFT-CALSCALE:GREGORIAN
X-WR-TIMEZONE:Europe/Berlin
BEGIN:VTIMEZONE
TZID:Europe/Berlin
X-LIC-LOCATION:Europe/Berlin
BEGIN:DAYLIGHT
TZNAME:CEST
TZOFFSETFROM:+0100
TZOFFSETTO:+0200
DTSTART:19810329T030000
RRULE:FREQ=YEARLY;INTERVAL=1;BYMONTH=3;BYDAY=-1SU
END:DAYLIGHT
BEGIN:STANDARD
TZNAME:CET
TZOFFSETFROM:+0200
TZOFFSETTO:+0100
DTSTART:19961027T030000
RRULE:FREQ=YEARLY;INTERVAL=1;BYMONTH=10;BYDAY=-1SU
END:STANDARD
END:VTIMEZONE
BEGIN:VEVENT
UID:DSC-6641
DTSTART;TZID=Europe/Berlin:20140311T090000
SEQUENCE:1394523823
TRANSP:OPAQUE
DTEND;TZID=Europe/Berlin:20140311T170000
URL:https://dresden-science-calendar.de/calendar/de/detail/6641
LOCATION:TUD Hörsaalzentrum\, Bergstraße 6401069 Dresden
SUMMARY:24. Dresdner Brückenbausymposium
CLASS:PUBLIC
DESCRIPTION:Speaker: \nInstitute of Speaker: \nTopics:\nBauing.\, Architekt
 ur\n Location:\n  Name: TUD Hörsaalzentrum (AUDIMAX Hörsaalzentrum der T
 U Dresden\, Bergstraße 64\, 01069 Dresden)\n  Street: Bergstraße 64\n  C
 ity: 01069 Dresden\n  Phone: +49 351 463-34457\n  Fax: +49 351 463-32883\n
 Description: <p>Das Programm des Brückenbausymposiums ist die bewährte M
 ischung aus grundlegenden Vorträgen und Berichten aus der Praxis. Zur Beg
 rüßung spricht Prof. Dr.-Ing. Dr.-Ing. E.h. Manfred Curbach über „Car
 bonbewehrung im Brückenbau“. Anschließend beleuchtet Technische Regier
 ungsdirektorin Dipl.-Ing. Brit Colditz\, Leiterin des Referates „Brücke
 n\, Tunnel und sonstige Ingenieurbauwerke“ im Bundesministerium für Ver
 kehr und digitale Infrastruktur\, die „Bedeutung der technischen Entwick
 lung im Brückenbau in Deutschland vom Wiederaufbau bis heute“. Die Seri
 e von Vorträgen zu historisch bedeutenden Persönlichkeiten setzt dipl. I
 ng. ETH/SIA Jürg Conzett mit einem spannenden Vortrag über den „Gerüs
 t- und Seilriesenbauer Richard Coray und die Anfänge des ingenieurmäßig
 en Holzbaus“ fort.</p> <p>In den insgesamt neun Fachbeiträgen berichten
  Experten von ihren Projekten und stellen Lösungen für Probleme vor. In 
 den Pausen zwischen den Blöcken ist ausreichend Zeit für Diskussionen un
 d die Besichtigung der Fachausstellung im Hörsaalzentrum der TU Dresden.<
 /p> <p><strong> </strong></p> <p><strong>Tagungsgebühr</strong></p> <p>1
 35\,00 € pro Person inkl. Tagungsmaterial und Pausenversorgung</p> <p>9
 0\,00 € für Vereinsmitglieder \"Freunde des Bauingenieurwesens der TU D
 resden e.V.\" </p> <p>Angehörige der TU Dresden und Studierende aller Hoc
 h- und Fachschulen sind von der Tagungsgebühr befreit.</p> <p> </p>
DTSTAMP:20260420T133514Z
CREATED:20140118T075657Z
LAST-MODIFIED:20140311T074343Z
END:VEVENT
END:VCALENDAR