BEGIN:VCALENDAR
VERSION:2.0
PRODID:www.dresden-science-calendar.de
METHOD:PUBLISH
CALSCALE:GREGORIAN
X-MICROSOFT-CALSCALE:GREGORIAN
X-WR-TIMEZONE:Europe/Berlin
BEGIN:VTIMEZONE
TZID:Europe/Berlin
X-LIC-LOCATION:Europe/Berlin
BEGIN:DAYLIGHT
TZNAME:CEST
TZOFFSETFROM:+0100
TZOFFSETTO:+0200
DTSTART:19810329T030000
RRULE:FREQ=YEARLY;INTERVAL=1;BYMONTH=3;BYDAY=-1SU
END:DAYLIGHT
BEGIN:STANDARD
TZNAME:CET
TZOFFSETFROM:+0200
TZOFFSETTO:+0100
DTSTART:19961027T030000
RRULE:FREQ=YEARLY;INTERVAL=1;BYMONTH=10;BYDAY=-1SU
END:STANDARD
END:VTIMEZONE
BEGIN:VEVENT
UID:DSC-6778
DTSTART;TZID=Europe/Berlin:20140311T150000
SEQUENCE:1394523824
TRANSP:OPAQUE
DTEND;TZID=Europe/Berlin:20140311T160000
URL:https://dresden-science-calendar.de/calendar/de/detail/6778
LOCATION:TUD Barkhausen-Bau\, Helmholtzstraße 1801087 Dresden
SUMMARY:Perrault: DNA Nanotechnology in Biomedicine: Addressing Obstacles t
 o Development through Biologically-Inspired Engineering
CLASS:PUBLIC
DESCRIPTION:Speaker: Steven Perrault\nInstitute of Speaker: \nTopics:\nBiol
 ogie\, Chemie\, Physik\, Informatik\, Mathematik\, Medizin\, Elektro- u. I
 nformationstechnik\n Location:\n  Name: TUD Barkhausen-Bau (TU Dresden\, B
 arkhausenbau\, BAR II / 63a)\n  Street: Helmholtzstraße 18\n  City: 01087
  Dresden\n  Phone: \n  Fax: \nDescription: 
DTSTAMP:20260425T020922Z
CREATED:20140204T074024Z
LAST-MODIFIED:20140311T074344Z
END:VEVENT
END:VCALENDAR