BEGIN:VCALENDAR
VERSION:2.0
PRODID:www.dresden-science-calendar.de
METHOD:PUBLISH
CALSCALE:GREGORIAN
X-MICROSOFT-CALSCALE:GREGORIAN
X-WR-TIMEZONE:Europe/Berlin
BEGIN:VTIMEZONE
TZID:Europe/Berlin
X-LIC-LOCATION:Europe/Berlin
BEGIN:DAYLIGHT
TZNAME:CEST
TZOFFSETFROM:+0100
TZOFFSETTO:+0200
DTSTART:19810329T030000
RRULE:FREQ=YEARLY;INTERVAL=1;BYMONTH=3;BYDAY=-1SU
END:DAYLIGHT
BEGIN:STANDARD
TZNAME:CET
TZOFFSETFROM:+0200
TZOFFSETTO:+0100
DTSTART:19961027T030000
RRULE:FREQ=YEARLY;INTERVAL=1;BYMONTH=10;BYDAY=-1SU
END:STANDARD
END:VTIMEZONE
BEGIN:VEVENT
UID:DSC-1064
DTSTART;TZID=Europe/Berlin:20110128T110000
SEQUENCE:1306507061
TRANSP:OPAQUE
DTEND;TZID=Europe/Berlin:20110128T123000
URL:https://dresden-science-calendar.de/calendar/en/detail/1064
LOCATION:HZDR\, Bautzner Landstraße 40001328 Dresden
SUMMARY:Maret: Zinc Biochemistry: From the geosphere to the biosphere
CLASS:PUBLIC
DESCRIPTION:Speaker: Prof. Dr. Wolfgang Maret\, Senior Lecturer\, School of
  Biomedical & Health Sciences\, Department of Nutrition and Dietetics\, Nu
 tritional Sciences DivisionKing's College London\nInstitute of Speaker: \n
 Topics:\nPhysik\n Location:\n  Name: HZDR (8a/P142N - Seminarraum FWR)\n  
 Street: Bautzner Landstraße 400\n  City: 01328 Dresden\n  Phone: \n  Fax:
  \nDescription: -
DTSTAMP:20260425T054038Z
CREATED:20110527T143741Z
LAST-MODIFIED:20110527T143741Z
END:VEVENT
END:VCALENDAR