BEGIN:VCALENDAR
VERSION:2.0
PRODID:www.dresden-science-calendar.de
METHOD:PUBLISH
CALSCALE:GREGORIAN
X-MICROSOFT-CALSCALE:GREGORIAN
X-WR-TIMEZONE:Europe/Berlin
BEGIN:VTIMEZONE
TZID:Europe/Berlin
X-LIC-LOCATION:Europe/Berlin
BEGIN:DAYLIGHT
TZNAME:CEST
TZOFFSETFROM:+0100
TZOFFSETTO:+0200
DTSTART:19810329T030000
RRULE:FREQ=YEARLY;INTERVAL=1;BYMONTH=3;BYDAY=-1SU
END:DAYLIGHT
BEGIN:STANDARD
TZNAME:CET
TZOFFSETFROM:+0200
TZOFFSETTO:+0100
DTSTART:19961027T030000
RRULE:FREQ=YEARLY;INTERVAL=1;BYMONTH=10;BYDAY=-1SU
END:STANDARD
END:VTIMEZONE
BEGIN:VEVENT
UID:DSC-12536
DTSTART;TZID=Europe/Berlin:20170220T130000
SEQUENCE:1487576297
TRANSP:OPAQUE
DTEND;TZID=Europe/Berlin:20170220T143000
URL:https://dresden-science-calendar.de/calendar/en/detail/12536
LOCATION:MPI-CPfS\, Nöthnitzer Straße 4001187 Dresden
SUMMARY:Liu: \"Probing multi-caloric effects (magneto-\, baro-\, and elasto
 -) in all-d-metal magnetic Heusler shape memory alloys\"
CLASS:PUBLIC
DESCRIPTION:Speaker: Dr. Enke Liu\nInstitute of Speaker: \nTopics:\nChemie\
 n Location:\n  Name: MPI-CPfS (Seminarraum 1+2\, Nöthnitzer Straße 40\, 
 01187 Dresden)\n  Street: Nöthnitzer Straße 40\n  City: 01187 Dresden\n 
  Phone: \n  Fax: \nDescription: 
DTSTAMP:20260419T184144Z
CREATED:20170217T074928Z
LAST-MODIFIED:20170220T073817Z
END:VEVENT
END:VCALENDAR