BEGIN:VCALENDAR
VERSION:2.0
PRODID:www.dresden-science-calendar.de
METHOD:PUBLISH
CALSCALE:GREGORIAN
X-MICROSOFT-CALSCALE:GREGORIAN
X-WR-TIMEZONE:Europe/Berlin
BEGIN:VTIMEZONE
TZID:Europe/Berlin
X-LIC-LOCATION:Europe/Berlin
BEGIN:DAYLIGHT
TZNAME:CEST
TZOFFSETFROM:+0100
TZOFFSETTO:+0200
DTSTART:19810329T030000
RRULE:FREQ=YEARLY;INTERVAL=1;BYMONTH=3;BYDAY=-1SU
END:DAYLIGHT
BEGIN:STANDARD
TZNAME:CET
TZOFFSETFROM:+0200
TZOFFSETTO:+0100
DTSTART:19961027T030000
RRULE:FREQ=YEARLY;INTERVAL=1;BYMONTH=10;BYDAY=-1SU
END:STANDARD
END:VTIMEZONE
BEGIN:VEVENT
UID:DSC-13555
DTSTART;TZID=Europe/Berlin:20171102T183000
SEQUENCE:1509608918
TRANSP:OPAQUE
DTEND;TZID=Europe/Berlin:20171102T200000
URL:https://dresden-science-calendar.de/calendar/en/detail/13555
LOCATION:Andere\,   
SUMMARY:Wolfer: Perspektivwechsel
CLASS:PUBLIC
DESCRIPTION:Speaker: Jens Wolfer\nInstitute of Speaker: Opferberatung der R
 AA Sachsen e.V.\nTopics:\nGesellschaft\, Philos.\, Erzieh.\n Location:\n  
 Name: Andere (Wird noch bekanntgegeben)\n  Street:  \n  City:  \n  Phone: 
 \n  Fax: \nDescription: Vortrag im Rahmen von \"Courage - wissen\, sehen\,
  handeln!\" Was ist Rassismus? In welchen Kontexten tritt er auf? Was kann
  eine Universität gegen Rassismus tun? Die Vorträge von namhaften Expert
 innen und Experten helfen Rassismus zu verstehen und zu erkennen. Als Bera
 tungsstelle für Betroffene rechtsmotivierter und rassistischer Gewalt unt
 erstützen wir Menschen\, die aufgrund natio-ethno-kultureller Zuschreibun
 gen beleidigt\, bedroht und verletzt werden. Die Zahl rassistisch- und rec
 htsmotivierter Angriffe nimmt seit Jahren zu. Der mediale und strafrechtli
 che Fokus\, liegt oftmals auf den Täter*innen. Doch was geschieht mit den
  Betroffenen nach einem gewaltsamen Angriff? Wenn plötzlich alles aus den
  Fugen geraten ist. Der Vortrag wagt einen Blick auf die Situation von Bet
 roffenen rechtsmotivierter Gewalttaten und ermöglicht einen Perspektivwec
 hsel.
DTSTAMP:20260425T004345Z
CREATED:20171014T075333Z
LAST-MODIFIED:20171102T074838Z
END:VEVENT
END:VCALENDAR