BEGIN:VCALENDAR
VERSION:2.0
PRODID:www.dresden-science-calendar.de
METHOD:PUBLISH
CALSCALE:GREGORIAN
X-MICROSOFT-CALSCALE:GREGORIAN
X-WR-TIMEZONE:Europe/Berlin
BEGIN:VTIMEZONE
TZID:Europe/Berlin
X-LIC-LOCATION:Europe/Berlin
BEGIN:DAYLIGHT
TZNAME:CEST
TZOFFSETFROM:+0100
TZOFFSETTO:+0200
DTSTART:19810329T030000
RRULE:FREQ=YEARLY;INTERVAL=1;BYMONTH=3;BYDAY=-1SU
END:DAYLIGHT
BEGIN:STANDARD
TZNAME:CET
TZOFFSETFROM:+0200
TZOFFSETTO:+0100
DTSTART:19961027T030000
RRULE:FREQ=YEARLY;INTERVAL=1;BYMONTH=10;BYDAY=-1SU
END:STANDARD
END:VTIMEZONE
BEGIN:VEVENT
UID:DSC-14049
DTSTART;TZID=Europe/Berlin:20180129T130000
SEQUENCE:1517212846
TRANSP:OPAQUE
DTEND;TZID=Europe/Berlin:20180129T140000
URL:https://dresden-science-calendar.de/calendar/en/detail/14049
LOCATION:MPI-CPfS\, Nöthnitzer Straße 4001187 Dresden
SUMMARY:Verbindungen: Dr. Eteri Svanidze: \"Novel on-centrosymmetric superc
 onductor BeAu\"
CLASS:PUBLIC
DESCRIPTION:Speaker: Gemeinsames Seminar intermetallische Verbindungen\nIns
 titute of Speaker: \nTopics:\nMaterialien\n Location:\n  Name: MPI-CPfS (S
 eminarraum 1+2\, Nöthnitzer Straße 40\, 01187 Dresden)\n  Street: Nöthn
 itzer Straße 40\n  City: 01187 Dresden\n  Phone: \n  Fax: \nDescription: 
DTSTAMP:20260423T212403Z
CREATED:20180129T080046Z
LAST-MODIFIED:20180129T080046Z
END:VEVENT
END:VCALENDAR