BEGIN:VCALENDAR
VERSION:2.0
PRODID:www.dresden-science-calendar.de
METHOD:PUBLISH
CALSCALE:GREGORIAN
X-MICROSOFT-CALSCALE:GREGORIAN
X-WR-TIMEZONE:Europe/Berlin
BEGIN:VTIMEZONE
TZID:Europe/Berlin
X-LIC-LOCATION:Europe/Berlin
BEGIN:DAYLIGHT
TZNAME:CEST
TZOFFSETFROM:+0100
TZOFFSETTO:+0200
DTSTART:19810329T030000
RRULE:FREQ=YEARLY;INTERVAL=1;BYMONTH=3;BYDAY=-1SU
END:DAYLIGHT
BEGIN:STANDARD
TZNAME:CET
TZOFFSETFROM:+0200
TZOFFSETTO:+0100
DTSTART:19961027T030000
RRULE:FREQ=YEARLY;INTERVAL=1;BYMONTH=10;BYDAY=-1SU
END:STANDARD
END:VTIMEZONE
BEGIN:VEVENT
UID:DSC-18166
DTSTART;TZID=Europe/Berlin:20211013T190000
SEQUENCE:1630662752
TRANSP:OPAQUE
DTEND;TZID=Europe/Berlin:20211013T210000
URL:https://dresden-science-calendar.de/calendar/en/detail/18166
LOCATION:Andere\,   
SUMMARY:Als die Bilder sprechen lernten: „Menschen am Sonntag“  (D 1929
 \, Regie: Robert Siodmak)
CLASS:PUBLIC
DESCRIPTION:Speaker: \nInstitute of Speaker: \nTopics:\nGesellschaft\, Phil
 os.\, Erzieh.\n Location:\n  Name: Andere (Klemperer-Saal)\n  Street:  \n 
  City:  \n  Phone: \n  Fax: \nDescription: In semi-dokumentarischer Manier
  zeigt der im Juli 1930 im Ufa-Palast erstmals in Dresden aufgeführte Fil
 m\, wie junge Menschen das Wochenende in der Großstadt Berlin verbringen.
  „Menschen am Sonntag“ ist ein später Höhepunkt des Stummfilms\, zug
 leich spiegeln sich in den Autoren des Films Zäsuren der Filmgeschichte: 
 Der in Dresden geborene Regisseur Robert Siodmak emigrierte nach der Macht
 übernahme durch die Nationalsozialisten in die USA\, auch sein Co-Regisse
 ur Edgar G. Ulmer setzte seine Karriere dort fort. Drehbuchautor Billy Wil
 der emigrierte 1933 zunächst nach Paris und wurde später zu einem der be
 deutendsten Hollywood-Regisseure.     Live-Vertonung durch DJ D‘read\; A
 bschluss der Filmreihe
DTSTAMP:20260422T053341Z
CREATED:20210903T095232Z
LAST-MODIFIED:20210903T095232Z
END:VEVENT
END:VCALENDAR