BEGIN:VCALENDAR
VERSION:2.0
PRODID:www.dresden-science-calendar.de
METHOD:PUBLISH
CALSCALE:GREGORIAN
X-MICROSOFT-CALSCALE:GREGORIAN
X-WR-TIMEZONE:Europe/Berlin
BEGIN:VTIMEZONE
TZID:Europe/Berlin
X-LIC-LOCATION:Europe/Berlin
BEGIN:DAYLIGHT
TZNAME:CEST
TZOFFSETFROM:+0100
TZOFFSETTO:+0200
DTSTART:19810329T030000
RRULE:FREQ=YEARLY;INTERVAL=1;BYMONTH=3;BYDAY=-1SU
END:DAYLIGHT
BEGIN:STANDARD
TZNAME:CET
TZOFFSETFROM:+0200
TZOFFSETTO:+0100
DTSTART:19961027T030000
RRULE:FREQ=YEARLY;INTERVAL=1;BYMONTH=10;BYDAY=-1SU
END:STANDARD
END:VTIMEZONE
BEGIN:VEVENT
UID:DSC-19213
DTSTART;TZID=Europe/Berlin:20230111T130000
SEQUENCE:1673419069
TRANSP:OPAQUE
DTEND;TZID=Europe/Berlin:20230111T140000
URL:https://dresden-science-calendar.de/calendar/en/detail/19213
LOCATION:IFW\, Helmholtzstraße 2001069 Dresden
SUMMARY:Zhao: Application of carbon materials in energy storageIntroduction
  to: Raman spectroscopy
CLASS:PUBLIC
DESCRIPTION:Speaker: Yirong Zhao\nInstitute of Speaker: Institut für Kompl
 exe Materialien / 3311\nTopics:\n\n Location:\n  Name: IFW (Hörsaal\, IFW
  Dresden\, Helmholtzsr. 20)\n  Street: Helmholtzstraße 20\n  City: 01069 
 Dresden\n  Phone: \n  Fax: \nDescription: 
DTSTAMP:20260422T073523Z
CREATED:20221017T220759Z
LAST-MODIFIED:20230111T063749Z
END:VEVENT
END:VCALENDAR