BEGIN:VCALENDAR
VERSION:2.0
PRODID:www.dresden-science-calendar.de
METHOD:PUBLISH
CALSCALE:GREGORIAN
X-MICROSOFT-CALSCALE:GREGORIAN
X-WR-TIMEZONE:Europe/Berlin
BEGIN:VTIMEZONE
TZID:Europe/Berlin
X-LIC-LOCATION:Europe/Berlin
BEGIN:DAYLIGHT
TZNAME:CEST
TZOFFSETFROM:+0100
TZOFFSETTO:+0200
DTSTART:19810329T030000
RRULE:FREQ=YEARLY;INTERVAL=1;BYMONTH=3;BYDAY=-1SU
END:DAYLIGHT
BEGIN:STANDARD
TZNAME:CET
TZOFFSETFROM:+0200
TZOFFSETTO:+0100
DTSTART:19961027T030000
RRULE:FREQ=YEARLY;INTERVAL=1;BYMONTH=10;BYDAY=-1SU
END:STANDARD
END:VTIMEZONE
BEGIN:VEVENT
UID:DSC-19381
DTSTART;TZID=Europe/Berlin:20230110T145000
SEQUENCE:1673332699
TRANSP:OPAQUE
DTEND;TZID=Europe/Berlin:20230110T162000
URL:https://dresden-science-calendar.de/calendar/en/detail/19381
LOCATION:TUD\,    
SUMMARY:Avdoshenko: Spins in cages: experimental and theoretical insights i
 nto endohedral metallofullerenes’ molecular magnetism
CLASS:PUBLIC
DESCRIPTION:Speaker: Stanislav Avdoshenko\nInstitute of Speaker: IFW-Dresde
 n\nTopics:\nPhysik\n Location:\n  Name: TUD ()\n  Street:   \n  City:  \n 
  Phone: \n  Fax: \nDescription: <p><strong>Abstract:</strong></p>  <p>In t
 his talk\, I will discuss recent advances in molecular magnetism research 
 involving metallofullerenes and show how theoretical methods help assess a
 nd rationalize physical properties. In these systems\, inside fullerene ca
 ges\, some traditional and non-traditional atomic interactions can be real
 ized\, like single-electron Ln−Ln bonds or Ln−X−Ln clusters with dif
 ferent geometries [1–3]. Such systems often possess unique and occasion
 ally record-breaking properties\, while the complexity of chemical composi
 tion makes them challenging objects for common theoretical means. Nonethel
 ess\, modern theoretical frameworks from DFT to the ab initio level may he
 lp rationalize experimental outcomes in detail. I will present these advan
 ced computational strategies that can be quite useful in describing not on
 ly Ln-based molecular but also continuous systems.</p>  <p>[1] Fupin Liu 
 et al.\, Nat. Commun. <strong>10</strong>\, 571 (2019)<br /> [2] Fupin Liu
  et al.\, Acc. Chem. Res. <strong>52</strong>\, 2981 (2019)<br /> [3] Wei
  Yang et al.\, Adv.Sci. <strong>6</strong>\, 1901352 (2019)</p>  <p><stro
 ng>BigBlueButton:</strong><br /> https://selfservice.zih.tu-dresden.de/l/l
 ink.php?m=188428&amp\;p=bb22c122 (https://selfservice.zih.tu-dresden.de/l/
 link.php?m=188428&amp\;p=bb22c122) (TUD)<br /> https://selfservice.zih.tu-
 dresden.de/link.php?m=188428&amp\;p=5f3aac90 (https://selfservice.zih.tu-d
 resden.de/link.php?m=188428&amp\;p=5f3aac90) (External)</p>
DTSTAMP:20260420T032525Z
CREATED:20230105T064023Z
LAST-MODIFIED:20230110T063819Z
END:VEVENT
END:VCALENDAR