BEGIN:VCALENDAR
VERSION:2.0
PRODID:www.dresden-science-calendar.de
METHOD:PUBLISH
CALSCALE:GREGORIAN
X-MICROSOFT-CALSCALE:GREGORIAN
X-WR-TIMEZONE:Europe/Berlin
BEGIN:VTIMEZONE
TZID:Europe/Berlin
X-LIC-LOCATION:Europe/Berlin
BEGIN:DAYLIGHT
TZNAME:CEST
TZOFFSETFROM:+0100
TZOFFSETTO:+0200
DTSTART:19810329T030000
RRULE:FREQ=YEARLY;INTERVAL=1;BYMONTH=3;BYDAY=-1SU
END:DAYLIGHT
BEGIN:STANDARD
TZNAME:CET
TZOFFSETFROM:+0200
TZOFFSETTO:+0100
DTSTART:19961027T030000
RRULE:FREQ=YEARLY;INTERVAL=1;BYMONTH=10;BYDAY=-1SU
END:STANDARD
END:VTIMEZONE
BEGIN:VEVENT
UID:DSC-22272
DTSTART;TZID=Europe/Berlin:20251029T183000
SEQUENCE:1758017846
TRANSP:OPAQUE
DTEND;TZID=Europe/Berlin:20251029T200000
URL:https://dresden-science-calendar.de/calendar/en/detail/22272
LOCATION:Andere\,   
SUMMARY:Platow: The Invisible Faces of AI: Ghost Workers\, Click Labor and 
 Digital Exploitation
CLASS:PUBLIC
DESCRIPTION:Speaker:  Prof. Birte Platow\, Lisette Olsthoorn\, Prof. Tanja 
 Carstensen\, Dr. Adio Dinika\, Vanessa Kuhfs\nInstitute of Speaker: ScaDS.
 AI Dresden/Leipzig\, TU Chemnitz\, DAIR\nTopics:\nInformatik\n Location:\n
   Name: Andere (Zentralkino Dresden\, Kraftwerk Mitte)\n  Street:  \n  Cit
 y:  \n  Phone: \n  Fax: \nDescription: Artificial intelligence is not only
  based on technology\, but above all on extensive human labor that often r
 emains invisible. In particular\, so-called clickwork\, small-scale tasks 
 such as data labeling or image annotation\, usually carried out via platfo
 rms\,forms the foundation of many AI systems. This work is often precariou
 s\, poorly paid\, and largely unrecognized. The aim of the event is to she
 d light on the real working and living conditions of digital workers.    B
 irte Platow from the Center for Scalable Data Analytics and Artificial Int
 elligence will open the evening with a welcome address. Afterwards\, we wi
 ll watch the film Ghost Workers by Lisette Olsthoorn\, who will then join 
 us for a discussion about the hidden labor behind AI. Tanja Carstensen and
  Adio Dinika will explore the social and global dimensions of digital plat
 form work. The evening will be moderated by Vanessa Kuhfs.
DTSTAMP:20260426T062506Z
CREATED:20250916T101726Z
LAST-MODIFIED:20250916T101726Z
END:VEVENT
END:VCALENDAR