BEGIN:VCALENDAR
VERSION:2.0
PRODID:www.dresden-science-calendar.de
METHOD:PUBLISH
CALSCALE:GREGORIAN
X-MICROSOFT-CALSCALE:GREGORIAN
X-WR-TIMEZONE:Europe/Berlin
BEGIN:VTIMEZONE
TZID:Europe/Berlin
X-LIC-LOCATION:Europe/Berlin
BEGIN:DAYLIGHT
TZNAME:CEST
TZOFFSETFROM:+0100
TZOFFSETTO:+0200
DTSTART:19810329T030000
RRULE:FREQ=YEARLY;INTERVAL=1;BYMONTH=3;BYDAY=-1SU
END:DAYLIGHT
BEGIN:STANDARD
TZNAME:CET
TZOFFSETFROM:+0200
TZOFFSETTO:+0100
DTSTART:19961027T030000
RRULE:FREQ=YEARLY;INTERVAL=1;BYMONTH=10;BYDAY=-1SU
END:STANDARD
END:VTIMEZONE
BEGIN:VEVENT
UID:DSC-22781
DTSTART;TZID=Europe/Berlin:20260701T110000
SEQUENCE:1776749947
TRANSP:OPAQUE
DTEND;TZID=Europe/Berlin:20260701T120000
URL:https://dresden-science-calendar.de/calendar/en/detail/22781
LOCATION:TUD CRTD\, Fetscherstraße 10501307 Dresden
SUMMARY:Lee: TBD
CLASS:PUBLIC
DESCRIPTION:Speaker: Jennifer Lee\nInstitute of Speaker: National Heart\, B
 lood\, and Lung Institute\, USA\nTopics:\n\n Location:\n  Name: TUD CRTD (
 )\n  Street: Fetscherstraße 105\n  City: 01307 Dresden\n  Phone: +49 (0)3
 51 458 82052\n  Fax: +49 (0)351 458 82059 \nDescription: <p>We are pleased
  to announce a new PoL Seminar by <strong>Jennifer Lee </strong>from the N
 ational Heart\, Blood\, and Lung Institute\, USA</p><p><strong>When?</stro
 ng> &amp\;nbsp\;Wednesday\, 1. July 2026\, 11:00 am<br><strong>Where? </st
 rong>CRTD auditorium left</p><p><strong>Abstract:</strong></p><p>TBD</p><p
 >-----</p><p>Everybody is very welcome. Don’t miss a great opportunity t
 o join the seminar!</p><p><strong>Please note:</strong> This seminar is go
 ing to take place <strong>in person</strong> at CRTD and will not be strea
 med via Zoom.</p>
DTSTAMP:20260423T145046Z
CREATED:20260319T063631Z
LAST-MODIFIED:20260421T053907Z
END:VEVENT
END:VCALENDAR