BEGIN:VCALENDAR
VERSION:2.0
PRODID:www.dresden-science-calendar.de
METHOD:PUBLISH
CALSCALE:GREGORIAN
X-MICROSOFT-CALSCALE:GREGORIAN
X-WR-TIMEZONE:Europe/Berlin
BEGIN:VTIMEZONE
TZID:Europe/Berlin
X-LIC-LOCATION:Europe/Berlin
BEGIN:DAYLIGHT
TZNAME:CEST
TZOFFSETFROM:+0100
TZOFFSETTO:+0200
DTSTART:19810329T030000
RRULE:FREQ=YEARLY;INTERVAL=1;BYMONTH=3;BYDAY=-1SU
END:DAYLIGHT
BEGIN:STANDARD
TZNAME:CET
TZOFFSETFROM:+0200
TZOFFSETTO:+0100
DTSTART:19961027T030000
RRULE:FREQ=YEARLY;INTERVAL=1;BYMONTH=10;BYDAY=-1SU
END:STANDARD
END:VTIMEZONE
BEGIN:VEVENT
UID:DSC-3570
DTSTART;VALUE=DATE:20121129
SEQUENCE:1354262252
TRANSP:OPAQUE
DTEND;VALUE=DATE:20121201
URL:https://dresden-science-calendar.de/calendar/en/detail/3570
LOCATION:TUD\,    
SUMMARY:6. Aachen-Dresden International Textile Conference 2012
CLASS:PUBLIC
DESCRIPTION:Speaker: \nInstitute of Speaker: \nTopics:\nChemie\, Maschinenw
 esen\, Materialien\, Bauing.\, Architektur\nTime:\n9:00 AM-6:00 PM\n\n Loc
 ation:\n  Name: TUD (Dresden\, Internationales Congress Center Dresden)\n 
  Street:   \n  City:  \n  Phone: \n  Fax: \nDescription: <p>Die 6. Aachen-
 Dresden International Textile Conference 2012 richtet sich an Fachleute au
 s den Bereichen Material\, Chemie\, Veredlung &amp\; Funktionalisierung so
 wie Maschinen\, Verfahren &amp\; Composites. Nach der zukunftsweisenden Pl
 enarveranstaltung unterteilt sich dieses Jahr erstmalig das Tagungsprogram
 m in 3 Parallelsektionen mit folgenden Themen:</p>  <ul>  <li>Chemie f&uum
 l\;r Faserverbundwerkstoffe\, Membranen und Schutztextilien</li>  <li>Fase
 rverbundwerkstoffe / Composites</li>  <li>Membranen &amp\; Textiles Bauen<
 /li>  <li>Schutztextilien</li>  <li>IGF-ZIM-Transferveranstaltung &bdquo\;
 Von der Idee bis zur Praxis&ldquo\;</li>  </ul>  <p><br />PLENARVORTR&Auml
 \;GE: <br /><br />Thomas Strobel\; FENWIS GmbH\, Gauting<br /><strong>Zuku
 nftsperspektiven Textil f&uuml\;r High-Tech-Anwendungen: Visionen - Strate
 gien - Potenziale</strong><br />&nbsp\; <br />Heinrich Timm\; AUDI AG\, In
 golstadt<br /><strong>Weniger ist mehr - Chancen der Composites im Automob
 ilbau</strong></p>  <p>&nbsp\;Hideki Hoshiro\; Japan Chemical Fibers Assoc
 iation\, Tokio/JP<br /><strong>The future development of the Japanese chem
 ical fibres industry</strong></p>  <p>FACHVORTR&Auml\;GE u. a. von: <br />
 <br />Kuraray\; Evonik Industries\; DSM Composite\; Baxenden\; EMPA\; belC
 hem fiber materials\; Centexbel\; Clariant\; Momentive Performance Materia
 ls\; Coatema\; CTC\; Nippon Steel Materials\; ENGEL AUSTRIA\; Tr&uuml\;tzs
 chler Nonwoven\; Toho Tenax\; Shima Seiki\; LIBA\; Dornier\; KARL MAYER\; 
 Eurocopter\; BMW\; Werner Sobek Stuttgart GmbH\; Newcastle University\; ae
 ronatec\; VERSEIDAG-INDUTEX\; Bayern Innovativ\; Swedish School of Textile
 s\; HKO\; JUTEC\; KCL\; TU Liberec\; ...</p>  <p>Erstmalig findet am 1. Ve
 ranstaltungstag als 3. Parallelsektion eine durch das Forschungskuratorium
  Textil e.V. organisierte IGF-ZIM-Transferveranstaltung &bdquo\;Von der Id
 ee bis zur Praxis&ldquo\; statt. Den Teilnehmern werden ausgew&auml\;hlte 
 Erfolgsbeispiele aus der Industrie vorgestellt\, wie durch Kooperationspro
 jekte gemeinsam Wissenschaftler und Industrievertreter Produkte bzw. Verfa
 hren entwickelt haben\, die abschlie&szlig\;end durch die Industrie erfolg
 reich umgesetzt worden sind.<br /><br />Weitere Informationen\, Vortragspr
 ogramm und Online-Anmeldung:<br />http://www.aachen-dresden-itc.de</p>
X-MICROSOFT-CDO-ALLDAYEVENT:TRUE
DTSTAMP:20260424T152008Z
CREATED:20120727T105139Z
LAST-MODIFIED:20121130T075732Z
END:VEVENT
END:VCALENDAR