BEGIN:VCALENDAR
VERSION:2.0
PRODID:www.dresden-science-calendar.de
METHOD:PUBLISH
CALSCALE:GREGORIAN
X-MICROSOFT-CALSCALE:GREGORIAN
X-WR-TIMEZONE:Europe/Berlin
BEGIN:VTIMEZONE
TZID:Europe/Berlin
X-LIC-LOCATION:Europe/Berlin
BEGIN:DAYLIGHT
TZNAME:CEST
TZOFFSETFROM:+0100
TZOFFSETTO:+0200
DTSTART:19810329T030000
RRULE:FREQ=YEARLY;INTERVAL=1;BYMONTH=3;BYDAY=-1SU
END:DAYLIGHT
BEGIN:STANDARD
TZNAME:CET
TZOFFSETFROM:+0200
TZOFFSETTO:+0100
DTSTART:19961027T030000
RRULE:FREQ=YEARLY;INTERVAL=1;BYMONTH=10;BYDAY=-1SU
END:STANDARD
END:VTIMEZONE
BEGIN:VEVENT
UID:DSC-3769
DTSTART;TZID=Europe/Berlin:20121002T100000
SEQUENCE:1364457351
TRANSP:OPAQUE
DTEND;TZID=Europe/Berlin:20121002T110000
URL:https://dresden-science-calendar.de/calendar/en/detail/3769
LOCATION:TUD\,    
SUMMARY:Supportteam: OPAL-Sprechstunde (Dauerangebot)
CLASS:PUBLIC
DESCRIPTION:Speaker: E-Learning Supportteam\nInstitute of Speaker: Medienze
 ntrum\nTopics:\nWeiterbildung\, Informatik\n Location:\n  Name: TUD (Weber
 platz 5\, WEB 125)\n  Street:   \n  City:  \n  Phone: \n  Fax: \nDescripti
 on: <b>Folgekurstage: Jeweils Dienstag\, Mittwoch und Donnerstag von 10:00
  - 11:00 Uhr</b>  Sie besitzen Autorenrechte und grundlegende Kenntnisse b
 ei der  Kurserstellung und wollen jetzt komplexe Lernszenarios in der  Ler
 nplattform OPAL umsetzen? Dazu beraten wir sie gern in unserer  OPAL-Sprec
 hstunde.  Das Themenspektrum reicht von einer einfachen Beratung zum  Them
 a \"E-Learning an der TU Dresden\" über Optimierungsarbeiten  an bestehen
 den OPAL-Kursen bis hin zur Realisierung komplexer  Anwendungsszenarios. I
 m Unterschied zu der monatlichen OPAL- Schulung können im Rahmen dieses A
 ngebotes Fragen zur Nutzung  der Lernplattform tiefgehender besprochen\, i
 ndividuelle Lösungen  erarbeitet und Verbesserungen sofort umgesetzt werd
 en.  Bitte melden Sie sich per E-Mail an (Betreff: „OPAL-Sprechstunde“
 ).  Teilen Sie uns Ihre Kontaktdaten (Name\, Institut\, Tel.) und den  gew
 ünschten Termin mit.  E-Learning Support (Medienzentrum) Tel.: +49 351 46
 3-34942  elearning@tu-dresden.de Vorraussetzungen: Gültiges Login am ZIH 
 (d. h. TUD-E-Mail-Adresse) und Autorenrechte   Teilnehmerkreis: Mitarbeite
 r und Studierende der TU Dresden  Umfang: 1 h  Teilnehmerzahl: 1 
DTSTAMP:20260420T120932Z
CREATED:20120915T073745Z
LAST-MODIFIED:20130328T075551Z
END:VEVENT
END:VCALENDAR