BEGIN:VCALENDAR
VERSION:2.0
PRODID:www.dresden-science-calendar.de
METHOD:PUBLISH
CALSCALE:GREGORIAN
X-MICROSOFT-CALSCALE:GREGORIAN
X-WR-TIMEZONE:Europe/Berlin
BEGIN:VTIMEZONE
TZID:Europe/Berlin
X-LIC-LOCATION:Europe/Berlin
BEGIN:DAYLIGHT
TZNAME:CEST
TZOFFSETFROM:+0100
TZOFFSETTO:+0200
DTSTART:19810329T030000
RRULE:FREQ=YEARLY;INTERVAL=1;BYMONTH=3;BYDAY=-1SU
END:DAYLIGHT
BEGIN:STANDARD
TZNAME:CET
TZOFFSETFROM:+0200
TZOFFSETTO:+0100
DTSTART:19961027T030000
RRULE:FREQ=YEARLY;INTERVAL=1;BYMONTH=10;BYDAY=-1SU
END:STANDARD
END:VTIMEZONE
BEGIN:VEVENT
UID:DSC-3919
DTSTART;TZID=Europe/Berlin:20121219T145000
SEQUENCE:1355903387
TRANSP:OPAQUE
DTEND;TZID=Europe/Berlin:20121219T155000
URL:https://dresden-science-calendar.de/calendar/en/detail/3919
LOCATION:TUD\,    
SUMMARY:Strauzenberg: SAMERU - Ver-kehrssicherheit älterer Menschen in eur
 opäischen Städten
CLASS:PUBLIC
DESCRIPTION:Speaker: Nora Strauzenberg (TUD\, Verkehrspsychologie)\nInstitu
 te of Speaker: \nTopics:\nPsychologie\, Bauing.\, Architektur\, Verkehr\n 
 Location:\n  Name: TUD (Potthoff-Bau\, Hettnerstraße 1\, Raum 112)\n  Str
 eet:   \n  City:  \n  Phone: \n  Fax: \nDescription: 
DTSTAMP:20260422T120455Z
CREATED:20121005T073539Z
LAST-MODIFIED:20121219T074947Z
END:VEVENT
END:VCALENDAR