BEGIN:VCALENDAR
VERSION:2.0
PRODID:www.dresden-science-calendar.de
METHOD:PUBLISH
CALSCALE:GREGORIAN
X-MICROSOFT-CALSCALE:GREGORIAN
X-WR-TIMEZONE:Europe/Berlin
BEGIN:VTIMEZONE
TZID:Europe/Berlin
X-LIC-LOCATION:Europe/Berlin
BEGIN:DAYLIGHT
TZNAME:CEST
TZOFFSETFROM:+0100
TZOFFSETTO:+0200
DTSTART:19810329T030000
RRULE:FREQ=YEARLY;INTERVAL=1;BYMONTH=3;BYDAY=-1SU
END:DAYLIGHT
BEGIN:STANDARD
TZNAME:CET
TZOFFSETFROM:+0200
TZOFFSETTO:+0100
DTSTART:19961027T030000
RRULE:FREQ=YEARLY;INTERVAL=1;BYMONTH=10;BYDAY=-1SU
END:STANDARD
END:VTIMEZONE
BEGIN:VEVENT
UID:DSC-5452
DTSTART;TZID=Europe/Berlin:20130703T111500
SEQUENCE:1372837585
TRANSP:OPAQUE
DTEND;TZID=Europe/Berlin:20130703T121500
URL:https://dresden-science-calendar.de/calendar/en/detail/5452
LOCATION:IFW\, Helmholtzstraße 2001069 Dresden
SUMMARY:Wolf: Transport in Graphene
CLASS:PUBLIC
DESCRIPTION:Speaker: Eugen Wolf\nInstitute of Speaker: TU Dresden\nTopics:\
 nMaterialien\, Physik\n Location:\n  Name: IFW (D2E.27\, IFW Dresden)\n  S
 treet: Helmholtzstraße 20\n  City: 01069 Dresden\n  Phone: \n  Fax: \nDes
 cription: 
DTSTAMP:20260419T215855Z
CREATED:20130703T074625Z
LAST-MODIFIED:20130703T074625Z
END:VEVENT
END:VCALENDAR