BEGIN:VCALENDAR
VERSION:2.0
PRODID:www.dresden-science-calendar.de
METHOD:PUBLISH
CALSCALE:GREGORIAN
X-MICROSOFT-CALSCALE:GREGORIAN
X-WR-TIMEZONE:Europe/Berlin
BEGIN:VTIMEZONE
TZID:Europe/Berlin
X-LIC-LOCATION:Europe/Berlin
BEGIN:DAYLIGHT
TZNAME:CEST
TZOFFSETFROM:+0100
TZOFFSETTO:+0200
DTSTART:19810329T030000
RRULE:FREQ=YEARLY;INTERVAL=1;BYMONTH=3;BYDAY=-1SU
END:DAYLIGHT
BEGIN:STANDARD
TZNAME:CET
TZOFFSETFROM:+0200
TZOFFSETTO:+0100
DTSTART:19961027T030000
RRULE:FREQ=YEARLY;INTERVAL=1;BYMONTH=10;BYDAY=-1SU
END:STANDARD
END:VTIMEZONE
BEGIN:VEVENT
UID:DSC-614
DTSTART;TZID=Europe/Berlin:20110526T170000
SEQUENCE:1310456151
TRANSP:OPAQUE
DTEND;TZID=Europe/Berlin:20110526T180000
URL:https://dresden-science-calendar.de/calendar/en/detail/614
LOCATION:TUD Chemie - Neubau\, Bergstraße 6601069 Dresden
SUMMARY:Matysik: Der Festkörper-Photo-CIDNP-Effekt
CLASS:PUBLIC
DESCRIPTION:Speaker: Dr. Jörg Matysik\nInstitute of Speaker: Universiteit 
 Leiden (Leiden\, Niederlande)\, Leiden Institute of Chemistry\nTopics:\nCh
 emie\n Location:\n  Name: TUD Chemie - Neubau ()\n  Street: Bergstraße 66
 \n  City: 01069 Dresden\n  Phone: \n  Fax: \nDescription: 
DTSTAMP:20260425T042310Z
CREATED:20110330T073543Z
LAST-MODIFIED:20110712T073551Z
END:VEVENT
END:VCALENDAR