BEGIN:VCALENDAR
VERSION:2.0
PRODID:www.dresden-science-calendar.de
METHOD:PUBLISH
CALSCALE:GREGORIAN
X-MICROSOFT-CALSCALE:GREGORIAN
X-WR-TIMEZONE:Europe/Berlin
BEGIN:VTIMEZONE
TZID:Europe/Berlin
X-LIC-LOCATION:Europe/Berlin
BEGIN:DAYLIGHT
TZNAME:CEST
TZOFFSETFROM:+0100
TZOFFSETTO:+0200
DTSTART:19810329T030000
RRULE:FREQ=YEARLY;INTERVAL=1;BYMONTH=3;BYDAY=-1SU
END:DAYLIGHT
BEGIN:STANDARD
TZNAME:CET
TZOFFSETFROM:+0200
TZOFFSETTO:+0100
DTSTART:19961027T030000
RRULE:FREQ=YEARLY;INTERVAL=1;BYMONTH=10;BYDAY=-1SU
END:STANDARD
END:VTIMEZONE
BEGIN:VEVENT
UID:DSC-687
DTSTART;TZID=Europe/Berlin:20110502T100000
SEQUENCE:1302533278
TRANSP:OPAQUE
DTEND;TZID=Europe/Berlin:20110502T110000
URL:https://dresden-science-calendar.de/calendar/en/detail/687
LOCATION:TUD Willers-Bau\, Zellescher Weg 12-1401069 Dresden
SUMMARY:Hoßfeld: Konrad Zuses 'spinnerte' Idee vom Rechnenden Raum – Ein
  Nachtrag zum 100. Geburtstag
CLASS:PUBLIC
DESCRIPTION:Speaker: Friedel Hoßfeld\nInstitute of Speaker: Forschungszent
 rum Jülich\nTopics:\nMathematik\, Informatik\, Elektro- u. Informationste
 chnik\n Location:\n  Name: TUD Willers-Bau (C 207)\n  Street: Zellescher W
 eg 12-14\n  City: 01069 Dresden\n  Phone: \n  Fax: \nDescription: Zurecht 
 waren die Gedenkfeiern 2010 zum 100. Geburtstag Konrad Zuses gefüllt mit 
 seinen epochalen Leistungen zur Entwicklung des Digitalrechners\, die ihm 
 – zwar spät\, aber doch noch zu Lebzeiten – die Anerkennung als der g
 roße Computer- Pionier gebracht haben. Dabei wurde zumeist vergessen\, da
 ss Konrad Zuse sich mit anderen grundsätzlichen Fragen auseinandersetzte 
 und daraus innovative Konzepte  schuf: Er entwickelte schon in den frühen
  1960er Jahren mit der Idee der „Digitalteilchen“ den praktischen Ansa
 tz der zellulären Automaten und nahm damit sogar die systolischen Algorit
 hmen vorweg. Andererseits wurde seine Idee vom „Rechnenden Raum“ in de
 r Welt der Wissenschaft nicht ernst genommen\; seine Folgerung\, dass das 
 Universum „körnig“ und ein gigantischer Automat sei und demzufolge al
 le Prozesse in Raum und Zeit in diskreten Sprüngen ablaufen müssten\, wu
 rde als irrige Spekulation abgetan. In diesem Vortrag wird der Versuch unt
 ernommen\, Zuses Idee vom „Rechnenden Raum“ im Licht der aktuellen spe
 kulativen Modelle der Physik und Kosmologie neu zu betrachten.
DTSTAMP:20260426T015237Z
CREATED:20110411T144758Z
LAST-MODIFIED:20110411T144758Z
END:VEVENT
END:VCALENDAR