BEGIN:VCALENDAR
VERSION:2.0
PRODID:www.dresden-science-calendar.de
METHOD:PUBLISH
CALSCALE:GREGORIAN
X-MICROSOFT-CALSCALE:GREGORIAN
X-WR-TIMEZONE:Europe/Berlin
BEGIN:VTIMEZONE
TZID:Europe/Berlin
X-LIC-LOCATION:Europe/Berlin
BEGIN:DAYLIGHT
TZNAME:CEST
TZOFFSETFROM:+0100
TZOFFSETTO:+0200
DTSTART:19810329T030000
RRULE:FREQ=YEARLY;INTERVAL=1;BYMONTH=3;BYDAY=-1SU
END:DAYLIGHT
BEGIN:STANDARD
TZNAME:CET
TZOFFSETFROM:+0200
TZOFFSETTO:+0100
DTSTART:19961027T030000
RRULE:FREQ=YEARLY;INTERVAL=1;BYMONTH=10;BYDAY=-1SU
END:STANDARD
END:VTIMEZONE
BEGIN:VEVENT
UID:DSC-7136
DTSTART;TZID=Europe/Berlin:20140613T092000
SEQUENCE:1402645959
TRANSP:OPAQUE
DTEND;TZID=Europe/Berlin:20140613T112000
URL:https://dresden-science-calendar.de/calendar/en/detail/7136
LOCATION:TUD\,    
SUMMARY:Frin: SCHULUNGSREIHE E-LEARNING: OPAL-BASISKURS
CLASS:PUBLIC
DESCRIPTION:Speaker: Sylvia Frin\nInstitute of Speaker: \nTopics:\nInformat
 ik\n Location:\n  Name: TUD (Weberplatz 5\, WEB 1 (PC-Pool))\n  Street:   
 \n  City:  \n  Phone: \n  Fax: \nDescription: Teil der Reihe/part of serie
 : SCHULUNGSREIHE E-LEARNING: OPAL-BASISKURS  <p><strong>Inhalt: </strong>
 </p> <ol> <li>Kurze Einleitung und Hintergrundinformationen: <ul> <li>Was 
 ist OPAL?</li> <li>Welche Hilfe- und Unterstützungsangebote bestehen?</li
 > </ul> </li> <li>Erste Schritte in OPAL: <ul> <li>Persönlicher Bereich\,
 </li> <li>OPAL-Elemente (Kurse\, Gruppen)</li> </ul> </li> <li>Erstellung 
 eines eigenen Kurses mit ausgewählten Kursbausteinen: <ul> <li>Hochladen 
 eigener Materialien\,</li> <li>Erstellen einfacher Inhaltsseiten\,</li> <l
 i>Realisieren einer Online-Einschreibung\,</li> <li>Zeit- und gruppengeste
 uerter Zugang zum Kurs\,</li> <li>Beteiligung anderer Nutzer an der Kurs-B
 earbeitung.</li> </ul> </li> </ol><strong><br /><br />Teilnahmevoraussetzu
 ng:<br /></strong>Sie benötigen ein gültiges Login Ihres Universitätsre
 chenzentrums und Autorenrechte für die Lernplattform OPAL.<strong><br /><
 /strong><strong><br /><br />Sonstige Bemerkungen: </strong><br />Bitte me
 lden Sie sich per E-Mail bis zum 10.06.2014 unter Angabe des Betreffs „O
 PAL-Basiskurs“ an: elearning@tu-dresden.de. Bitte teilen Sie uns Ihre Ko
 ntaktdaten (Name\, Institut\, Telefon) und den gewünschten Termin mit. Te
 lefon für Rückfragen: +49 351 463-34942.
DTSTAMP:20260423T164515Z
CREATED:20140404T075422Z
LAST-MODIFIED:20140613T075239Z
END:VEVENT
END:VCALENDAR