BEGIN:VCALENDAR
VERSION:2.0
PRODID:www.dresden-science-calendar.de
METHOD:PUBLISH
CALSCALE:GREGORIAN
X-MICROSOFT-CALSCALE:GREGORIAN
X-WR-TIMEZONE:Europe/Berlin
BEGIN:VTIMEZONE
TZID:Europe/Berlin
X-LIC-LOCATION:Europe/Berlin
BEGIN:DAYLIGHT
TZNAME:CEST
TZOFFSETFROM:+0100
TZOFFSETTO:+0200
DTSTART:19810329T030000
RRULE:FREQ=YEARLY;INTERVAL=1;BYMONTH=3;BYDAY=-1SU
END:DAYLIGHT
BEGIN:STANDARD
TZNAME:CET
TZOFFSETFROM:+0200
TZOFFSETTO:+0100
DTSTART:19961027T030000
RRULE:FREQ=YEARLY;INTERVAL=1;BYMONTH=10;BYDAY=-1SU
END:STANDARD
END:VTIMEZONE
BEGIN:VEVENT
UID:DSC-7710
DTSTART;TZID=Europe/Berlin:20140905T090000
SEQUENCE:1409904167
TRANSP:OPAQUE
DTEND;TZID=Europe/Berlin:20140905T190000
URL:https://dresden-science-calendar.de/calendar/en/detail/7710
LOCATION:HZDR\, Bautzner Landstraße 40001328 Dresden
SUMMARY:Silicon Saxony Workshop
CLASS:PUBLIC
DESCRIPTION:Speaker: n. n.\nInstitute of Speaker: \nTopics:\nPhysik\n Locat
 ion:\n  Name: HZDR ()\n  Street: Bautzner Landstraße 400\n  City: 01328 D
 resden\n  Phone: \n  Fax: \nDescription: n. n.
DTSTAMP:20260426T001723Z
CREATED:20140716T074303Z
LAST-MODIFIED:20140905T080247Z
END:VEVENT
END:VCALENDAR