BEGIN:VCALENDAR
VERSION:2.0
PRODID:www.dresden-science-calendar.de
METHOD:PUBLISH
CALSCALE:GREGORIAN
X-MICROSOFT-CALSCALE:GREGORIAN
X-WR-TIMEZONE:Europe/Berlin
BEGIN:VTIMEZONE
TZID:Europe/Berlin
X-LIC-LOCATION:Europe/Berlin
BEGIN:DAYLIGHT
TZNAME:CEST
TZOFFSETFROM:+0100
TZOFFSETTO:+0200
DTSTART:19810329T030000
RRULE:FREQ=YEARLY;INTERVAL=1;BYMONTH=3;BYDAY=-1SU
END:DAYLIGHT
BEGIN:STANDARD
TZNAME:CET
TZOFFSETFROM:+0200
TZOFFSETTO:+0100
DTSTART:19961027T030000
RRULE:FREQ=YEARLY;INTERVAL=1;BYMONTH=10;BYDAY=-1SU
END:STANDARD
END:VTIMEZONE
BEGIN:VEVENT
UID:DSC-973
DTSTART;TZID=Europe/Berlin:20110201T140000
SEQUENCE:1306506929
TRANSP:OPAQUE
DTEND;TZID=Europe/Berlin:20110201T150000
URL:https://dresden-science-calendar.de/calendar/de/detail/973
LOCATION:MPI-CBG\, Pfotenhauerstraße 10801307 Dresden
SUMMARY:Roux: How curvature controls dynamin-mediated membrane fission
CLASS:PUBLIC
DESCRIPTION:Speaker: Aurélien Roux\nInstitute of Speaker: Biochemistry Dep
 artment\, University of Geneva\, Switzerland\nTopics:\nBiologie\n Location
 :\n  Name: MPI-CBG (Seminar room Galleria)\n  Street: Pfotenhauerstraße 1
 08\n  City: 01307 Dresden\n  Phone: +49 351 210-0\n  Fax: +49 351 210-2000
 \nDescription: 
DTSTAMP:20260424T071536Z
CREATED:20110527T143529Z
LAST-MODIFIED:20110527T143529Z
END:VEVENT
END:VCALENDAR